BEGIN:VCALENDAR
VERSION:2.0
PRODID:-//Randers Kunstforening - ECPv6.15.20//NONSGML v1.0//EN
CALSCALE:GREGORIAN
METHOD:PUBLISH
X-WR-CALNAME:Randers Kunstforening
X-ORIGINAL-URL:https://www.randers-kunstforening.dk
X-WR-CALDESC:Begivenheder for Randers Kunstforening
REFRESH-INTERVAL;VALUE=DURATION:PT1H
X-Robots-Tag:noindex
X-PUBLISHED-TTL:PT1H
BEGIN:VTIMEZONE
TZID:Europe/Copenhagen
BEGIN:DAYLIGHT
TZOFFSETFROM:+0100
TZOFFSETTO:+0200
TZNAME:CEST
DTSTART:20230326T010000
END:DAYLIGHT
BEGIN:STANDARD
TZOFFSETFROM:+0200
TZOFFSETTO:+0100
TZNAME:CET
DTSTART:20231029T010000
END:STANDARD
BEGIN:DAYLIGHT
TZOFFSETFROM:+0100
TZOFFSETTO:+0200
TZNAME:CEST
DTSTART:20240331T010000
END:DAYLIGHT
BEGIN:STANDARD
TZOFFSETFROM:+0200
TZOFFSETTO:+0100
TZNAME:CET
DTSTART:20241027T010000
END:STANDARD
BEGIN:DAYLIGHT
TZOFFSETFROM:+0100
TZOFFSETTO:+0200
TZNAME:CEST
DTSTART:20250330T010000
END:DAYLIGHT
BEGIN:STANDARD
TZOFFSETFROM:+0200
TZOFFSETTO:+0100
TZNAME:CET
DTSTART:20251026T010000
END:STANDARD
END:VTIMEZONE
BEGIN:VEVENT
DTSTART;TZID=Europe/Copenhagen:20240810T110000
DTEND;TZID=Europe/Copenhagen:20240824T160000
DTSTAMP:20260425T023341
CREATED:20240816T080557Z
LAST-MODIFIED:20240816T091020Z
UID:577-1723287600-1724515200@www.randers-kunstforening.dk
SUMMARY:Randers Festuge kunstudstilling : 10. august 2024 til 24. august 2024
DESCRIPTION:Maria Engholm & Merete Larsen ”TRÆETS FORUNDERLIGHED I BILLEDER OG SKULPTURER”\n			\n				\n					\n					\n					\n				\n				\n					\n					\n					\n				\n				\n					\n					\n					\n				\n				\n					\n					\n					\n				\n				\n				\n				\n				\n				\n				Randers Kunstforening præsenterer i Randers festuge to meget anerkendte  kunstnere. Maria Engholm og Merete Larsen.Træ\, natur og håb bliver tematiseret i deres billeder og skulpturer. \nDer er fri entre til udstillingen\, som kan ses fra kl. 12.30 og har fernisering lørdag den 10. august kl. 13.00 i Helligåndshuset med efterfølgende kunstnerdialog.  Kom og få en god oplevelse inden ferniseringen: Der vil også være et musikalsk indslag inden fernisering. \nUdstillingen vises i perioden 10. august 2024 til 24. august 2024 \nUndtagen den 18.08. – 19.08. – 20.08. 21.08. \nÅbningstider kl. 11 -16. \nHelligåndshuset\, Erik Menveds Plads\, 8900 Randers C \nTak til udstillingens tilskudsgiver: Randers Kommunes Kulturudvalg og Sydbank Fonden
URL:https://www.randers-kunstforening.dk/kalender/randers-festuge-kunstudstilling-10-august-2024-til-24-august-2024/
LOCATION:Helligåndshuset\, Erik Menveds Plads\, Randers C\, 8900\, Denmark
CATEGORIES:Udstillinger
END:VEVENT
END:VCALENDAR