BEGIN:VCALENDAR
VERSION:2.0
PRODID:-//Randers Kunstforening - ECPv6.15.20//NONSGML v1.0//EN
CALSCALE:GREGORIAN
METHOD:PUBLISH
X-WR-CALNAME:Randers Kunstforening
X-ORIGINAL-URL:https://www.randers-kunstforening.dk
X-WR-CALDESC:Begivenheder for Randers Kunstforening
REFRESH-INTERVAL;VALUE=DURATION:PT1H
X-Robots-Tag:noindex
X-PUBLISHED-TTL:PT1H
BEGIN:VTIMEZONE
TZID:Europe/Copenhagen
BEGIN:DAYLIGHT
TZOFFSETFROM:+0100
TZOFFSETTO:+0200
TZNAME:CEST
DTSTART:20240331T010000
END:DAYLIGHT
BEGIN:STANDARD
TZOFFSETFROM:+0200
TZOFFSETTO:+0100
TZNAME:CET
DTSTART:20241027T010000
END:STANDARD
BEGIN:DAYLIGHT
TZOFFSETFROM:+0100
TZOFFSETTO:+0200
TZNAME:CEST
DTSTART:20250330T010000
END:DAYLIGHT
BEGIN:STANDARD
TZOFFSETFROM:+0200
TZOFFSETTO:+0100
TZNAME:CET
DTSTART:20251026T010000
END:STANDARD
BEGIN:DAYLIGHT
TZOFFSETFROM:+0100
TZOFFSETTO:+0200
TZNAME:CEST
DTSTART:20260329T010000
END:DAYLIGHT
BEGIN:STANDARD
TZOFFSETFROM:+0200
TZOFFSETTO:+0100
TZNAME:CET
DTSTART:20261025T010000
END:STANDARD
END:VTIMEZONE
BEGIN:VEVENT
DTSTART;TZID=Europe/Copenhagen:20250412T123000
DTEND;TZID=Europe/Copenhagen:20250412T160000
DTSTAMP:20260424T124910
CREATED:20250130T102601Z
LAST-MODIFIED:20250314T083105Z
UID:944-1744461000-1744473600@www.randers-kunstforening.dk
SUMMARY:Fernisering og kunstner dialog: Påskeudstilling i Helligåndshuset:  ”DET ANDET” med kunstnerne: Maya Peitersen og Jonas Ditlev Pihl”
DESCRIPTION:Vi er stolte over atter at kunne præsentere en spændende udstilling i Randers Kunstforening.\nDenne gang er det Jonas Pihl og Maya Peitersen. Vi valgte Jonas Pihl\, da vi både har mødt ham og er begejstrede for hans spændende og nyskabende malerier og skulpturer. Vi spurgte ham\, hvem han kunne tænke sig som makker til påskeudstillingen. Han foreslog Maya Peitersen\, da de deler mange kunstneriske inspirationskilder og har et ret forskelligt udtryk\, de så det som en fornøjelse at få mulighed for i fællesskab at udvikle denne udstilling.
URL:https://www.randers-kunstforening.dk/kalender/fernisering-og-kunstner-dialog-paaskeudstilling-i-helligaandshuset-no-name-med-kunstnerne-maya-peitersen-og-jonas-ditlev-pihl/
CATEGORIES:Udstillinger
END:VEVENT
BEGIN:VEVENT
DTSTART;TZID=Europe/Copenhagen:20250413T120000
DTEND;TZID=Europe/Copenhagen:20250428T160000
DTSTAMP:20260424T124910
CREATED:20250130T103441Z
LAST-MODIFIED:20250314T083234Z
UID:951-1744545600-1745856000@www.randers-kunstforening.dk
SUMMARY:Påskeudstilling i Helligåndshuset:  ”DET ANDET” med kunstnerne: Maya Peitersen og Jonas Ditlev Pihl”
DESCRIPTION:Åbningstider: Søndag den 13.april til fredag den 18. april kl. 12.00 – 16.00. lørdag og søndag den 19. og 20.april kl. 10.00 – 14.00 og torsdag den 24. og fredag den 25. april kl. 12.00 – 16.00. lørdag den 26. april kl. 10.00 – 14.00. Der er lukket i dagene: 2. påskedag man den 21. april til onsdag den 23.april. Vi er stolte over atter at kunne præsentere en spændende udstilling i Randers Kunstforening. \nDenne gang er det Jonas Pihl og Maya Peitersen. Vi valgte Jonas Pihl\, da vi både har mødt ham og er begejstrede for hans spændende og nyskabende malerier og skulpturer. Vi spurgte ham\, hvem han kunne tænke sig som makker til påskeudstillingen. Han foreslog Maya Peitersen\, da de deler mange kunstneriske inspirationskilder og har et ret forskelligt udtryk\, de så det som en fornøjelse at få mulighed for i fællesskab at udvikle denne udstilling
URL:https://www.randers-kunstforening.dk/kalender/paaskeudstilling-i-helligaandshuset-no-name-med-kunstnerne-maya-peitersen-og-jonas-ditlev-pihl/
CATEGORIES:Udstillinger
END:VEVENT
END:VCALENDAR